BEGIN:VCALENDAR
VERSION:2.0
PRODID:-//Ogwell Parish Council//Meeting Calendar//EN
CALSCALE:GREGORIAN
METHOD:PUBLISH
BEGIN:VEVENT
UID:76165-20251208@ogwellparishcouncil.gov.uk
DTSTAMP:20260423T083108Z
DTSTART;VALUE=DATE:20251208
DTEND;VALUE=DATE:20251209
SUMMARY:Full Council Meeting &#8211\\; Monday 8th December 2025
DESCRIPTION:Full Council Meeting\nView details: https://ogwellparishcouncil.gov.uk/meetings/full-council-meeting-monday-8th-december-2025/
URL:https://ogwellparishcouncil.gov.uk/meetings/full-council-meeting-monday-8th-december-2025/
END:VEVENT
END:VCALENDAR
