BEGIN:VCALENDAR
VERSION:2.0
PRODID:-//Ogwell Parish Council//Meeting Calendar//EN
CALSCALE:GREGORIAN
METHOD:PUBLISH
BEGIN:VEVENT
UID:76098-20251110@ogwellparishcouncil.gov.uk
DTSTAMP:20260424T081549Z
DTSTART;VALUE=DATE:20251110
DTEND;VALUE=DATE:20251111
SUMMARY:Full Council Meeting &#8211\\; Monday 10th November 2025
DESCRIPTION:Full Council Meeting\nView details: https://ogwellparishcouncil.gov.uk/meetings/full-council-meeting-monday-10th-november-2025/
URL:https://ogwellparishcouncil.gov.uk/meetings/full-council-meeting-monday-10th-november-2025/
END:VEVENT
END:VCALENDAR
