BEGIN:VCALENDAR
VERSION:2.0
PRODID:-//Ogwell Parish Council//Meeting Calendar//EN
CALSCALE:GREGORIAN
METHOD:PUBLISH
BEGIN:VEVENT
UID:76031-20250908@ogwellparishcouncil.gov.uk
DTSTAMP:20260424T081649Z
DTSTART;VALUE=DATE:20250908
DTEND;VALUE=DATE:20250909
SUMMARY:Full Council Meeting &#8211\\; Monday 8th September 2025
DESCRIPTION:Full Council Meeting\nView details: https://ogwellparishcouncil.gov.uk/meetings/full-council-meeting-monday-8th-september-2025/
URL:https://ogwellparishcouncil.gov.uk/meetings/full-council-meeting-monday-8th-september-2025/
END:VEVENT
END:VCALENDAR
