BEGIN:VCALENDAR
VERSION:2.0
PRODID:-//Ogwell Parish Council//Meeting Calendar//EN
CALSCALE:GREGORIAN
METHOD:PUBLISH
BEGIN:VEVENT
UID:71937-20240212@ogwellparishcouncil.gov.uk
DTSTAMP:20260423T095645Z
DTSTART;VALUE=DATE:20240212
DTEND;VALUE=DATE:20240213
SUMMARY:Full Council Meeting &#8211\\; Monday12th February 2024
DESCRIPTION:Full Council Meeting\nView details: https://ogwellparishcouncil.gov.uk/meetings/full-council-meeting-monday12th-february-2024/
URL:https://ogwellparishcouncil.gov.uk/meetings/full-council-meeting-monday12th-february-2024/
END:VEVENT
END:VCALENDAR
