BEGIN:VCALENDAR
VERSION:2.0
PRODID:-//Ogwell Parish Council//Meeting Calendar//EN
CALSCALE:GREGORIAN
METHOD:PUBLISH
BEGIN:VEVENT
UID:70849-20221114@ogwellparishcouncil.gov.uk
DTSTAMP:20260422T140026Z
DTSTART;VALUE=DATE:20221114
DTEND;VALUE=DATE:20221115
SUMMARY:Full Council Meeting &#8211\\; 14th November 2022
DESCRIPTION:Full Council Meeting\nView details: https://ogwellparishcouncil.gov.uk/meetings/full-council-meeting-14th-november-2022/
URL:https://ogwellparishcouncil.gov.uk/meetings/full-council-meeting-14th-november-2022/
END:VEVENT
END:VCALENDAR
