BEGIN:VCALENDAR
VERSION:2.0
PRODID:-//Ogwell Parish Council//Meeting Calendar//EN
CALSCALE:GREGORIAN
METHOD:PUBLISH
BEGIN:VEVENT
UID:70836-20220214@ogwellparishcouncil.gov.uk
DTSTAMP:20260420T024030Z
DTSTART;VALUE=DATE:20220214
DTEND;VALUE=DATE:20220215
SUMMARY:Full Council Meeting &#8211\\; 14th February 2022
DESCRIPTION:Full Council Meeting\nView details: https://ogwellparishcouncil.gov.uk/meetings/full-council-meeting-14th-february-2022/
URL:https://ogwellparishcouncil.gov.uk/meetings/full-council-meeting-14th-february-2022/
END:VEVENT
END:VCALENDAR
