BEGIN:VCALENDAR
VERSION:2.0
PRODID:-//Ogwell Parish Council//Meeting Calendar//EN
CALSCALE:GREGORIAN
METHOD:PUBLISH
BEGIN:VEVENT
UID:70834-20220110@ogwellparishcouncil.gov.uk
DTSTAMP:20260420T040020Z
DTSTART;VALUE=DATE:20220110
DTEND;VALUE=DATE:20220111
SUMMARY:Full Council Meeting &#8211\\; 10th January 2022
DESCRIPTION:Full Council Meeting\nView details: https://ogwellparishcouncil.gov.uk/meetings/full-council-meeting-10th-january-2022/
URL:https://ogwellparishcouncil.gov.uk/meetings/full-council-meeting-10th-january-2022/
END:VEVENT
END:VCALENDAR
