BEGIN:VCALENDAR
VERSION:2.0
PRODID:-//Ogwell Parish Council//Meeting Calendar//EN
CALSCALE:GREGORIAN
METHOD:PUBLISH
BEGIN:VEVENT
UID:70825-20210809@ogwellparishcouncil.gov.uk
DTSTAMP:20260423T094249Z
DTSTART;VALUE=DATE:20210809
DTEND;VALUE=DATE:20210810
SUMMARY:Full Council Meeting &#8211\\; 9th August 2021
DESCRIPTION:Full Council Meeting\nView details: https://ogwellparishcouncil.gov.uk/meetings/full-council-meeting-9th-august-2021/
URL:https://ogwellparishcouncil.gov.uk/meetings/full-council-meeting-9th-august-2021/
END:VEVENT
END:VCALENDAR
