BEGIN:VCALENDAR
VERSION:2.0
PRODID:-//Ogwell Parish Council//Meeting Calendar//EN
CALSCALE:GREGORIAN
METHOD:PUBLISH
BEGIN:VEVENT
UID:70823-20210719@ogwellparishcouncil.gov.uk
DTSTAMP:20260421T122847Z
DTSTART;VALUE=DATE:20210719
DTEND;VALUE=DATE:20210720
SUMMARY:Full Council Meeting &#8211\\; 19th July 2021
DESCRIPTION:Full Council Meeting\nView details: https://ogwellparishcouncil.gov.uk/meetings/full-council-meeting-19th-july-2021/
URL:https://ogwellparishcouncil.gov.uk/meetings/full-council-meeting-19th-july-2021/
END:VEVENT
END:VCALENDAR
