BEGIN:VCALENDAR
VERSION:2.0
PRODID:-//Ogwell Parish Council//Meeting Calendar//EN
CALSCALE:GREGORIAN
METHOD:PUBLISH
BEGIN:VEVENT
UID:70786-20200608@ogwellparishcouncil.gov.uk
DTSTAMP:20260424T085919Z
DTSTART;VALUE=DATE:20200608
DTEND;VALUE=DATE:20200609
SUMMARY:Full Council Meeting &#8211\\; 8th June 2020
DESCRIPTION:Full Council Meeting\nView details: https://ogwellparishcouncil.gov.uk/meetings/june-2020-minutes/
URL:https://ogwellparishcouncil.gov.uk/meetings/june-2020-minutes/
END:VEVENT
END:VCALENDAR
