BEGIN:VCALENDAR
VERSION:2.0
PRODID:-//Ogwell Parish Council//Meeting Calendar//EN
CALSCALE:GREGORIAN
METHOD:PUBLISH
BEGIN:VEVENT
UID:70784-20200511@ogwellparishcouncil.gov.uk
DTSTAMP:20260424T081544Z
DTSTART;VALUE=DATE:20200511
DTEND;VALUE=DATE:20200512
SUMMARY:Full Council Meeting &#8211\\; 11th May 2020
DESCRIPTION:Full Council Meeting\nView details: https://ogwellparishcouncil.gov.uk/meetings/may-2020-minutes/
URL:https://ogwellparishcouncil.gov.uk/meetings/may-2020-minutes/
END:VEVENT
END:VCALENDAR
