BEGIN:VCALENDAR
VERSION:2.0
PRODID:-//Ogwell Parish Council//Meeting Calendar//EN
CALSCALE:GREGORIAN
METHOD:PUBLISH
BEGIN:VEVENT
UID:70780-20200309@ogwellparishcouncil.gov.uk
DTSTAMP:20260424T094409Z
DTSTART;VALUE=DATE:20200309
DTEND;VALUE=DATE:20200310
SUMMARY:Full Council Meeting &#8211\\; 9th March 2020
DESCRIPTION:Full Council Meeting\nView details: https://ogwellparishcouncil.gov.uk/meetings/march-2020-minutes/
URL:https://ogwellparishcouncil.gov.uk/meetings/march-2020-minutes/
END:VEVENT
END:VCALENDAR
