BEGIN:VCALENDAR
VERSION:2.0
PRODID:-//Ogwell Parish Council//Meeting Calendar//EN
CALSCALE:GREGORIAN
METHOD:PUBLISH
BEGIN:VEVENT
UID:70776-20200113@ogwellparishcouncil.gov.uk
DTSTAMP:20260424T094244Z
DTSTART;VALUE=DATE:20200113
DTEND;VALUE=DATE:20200114
SUMMARY:Full Council Meeting &#8211\\; 13th January 2020
DESCRIPTION:Full Council Meeting\nView details: https://ogwellparishcouncil.gov.uk/meetings/january-2020-minutes/
URL:https://ogwellparishcouncil.gov.uk/meetings/january-2020-minutes/
END:VEVENT
END:VCALENDAR
