BEGIN:VCALENDAR
VERSION:2.0
PRODID:-//Ogwell Parish Council//Meeting Calendar//EN
CALSCALE:GREGORIAN
METHOD:PUBLISH
BEGIN:VEVENT
UID:70760-20190513@ogwellparishcouncil.gov.uk
DTSTAMP:20260424T094743Z
DTSTART;VALUE=DATE:20190513
DTEND;VALUE=DATE:20190514
SUMMARY:Full Council Meeting &#8211\\; 13th May 2019
DESCRIPTION:Full Council Meeting\nView details: https://ogwellparishcouncil.gov.uk/meetings/may-2019-minutes/
URL:https://ogwellparishcouncil.gov.uk/meetings/may-2019-minutes/
END:VEVENT
END:VCALENDAR
