BEGIN:VCALENDAR
VERSION:2.0
PRODID:-//Ogwell Parish Council//Meeting Calendar//EN
CALSCALE:GREGORIAN
METHOD:PUBLISH
BEGIN:VEVENT
UID:70754-20190211@ogwellparishcouncil.gov.uk
DTSTAMP:20260420T165240Z
DTSTART;VALUE=DATE:20190211
DTEND;VALUE=DATE:20190212
SUMMARY:Full Council Meeting &#8211\\; 11th February 2019
DESCRIPTION:Full Council Meeting\nView details: https://ogwellparishcouncil.gov.uk/meetings/february-2019-minutes/
URL:https://ogwellparishcouncil.gov.uk/meetings/february-2019-minutes/
END:VEVENT
END:VCALENDAR
