BEGIN:VCALENDAR
VERSION:2.0
PRODID:-//Ogwell Parish Council//Meeting Calendar//EN
CALSCALE:GREGORIAN
METHOD:PUBLISH
BEGIN:VEVENT
UID:70752-20190114@ogwellparishcouncil.gov.uk
DTSTAMP:20260420T153320Z
DTSTART;VALUE=DATE:20190114
DTEND;VALUE=DATE:20190115
SUMMARY:Full Council Meeting &#8211\\; 14th January 2019
DESCRIPTION:Full Council Meeting\nView details: https://ogwellparishcouncil.gov.uk/meetings/january-2019-minutes/
URL:https://ogwellparishcouncil.gov.uk/meetings/january-2019-minutes/
END:VEVENT
END:VCALENDAR
