BEGIN:VCALENDAR
VERSION:2.0
PRODID:-//Ogwell Parish Council//Meeting Calendar//EN
CALSCALE:GREGORIAN
METHOD:PUBLISH
BEGIN:VEVENT
UID:70748-20181112@ogwellparishcouncil.gov.uk
DTSTAMP:20260422T082841Z
DTSTART;VALUE=DATE:20181112
DTEND;VALUE=DATE:20181113
SUMMARY:Full Council Meeting &#8211\\; 12th November 2018
DESCRIPTION:Full Council Meeting\nView details: https://ogwellparishcouncil.gov.uk/meetings/november-2018-minutes/
URL:https://ogwellparishcouncil.gov.uk/meetings/november-2018-minutes/
END:VEVENT
END:VCALENDAR
