BEGIN:VCALENDAR
VERSION:2.0
PRODID:-//Ogwell Parish Council//Meeting Calendar//EN
CALSCALE:GREGORIAN
METHOD:PUBLISH
BEGIN:VEVENT
UID:70744-20180910@ogwellparishcouncil.gov.uk
DTSTAMP:20260424T081544Z
DTSTART;VALUE=DATE:20180910
DTEND;VALUE=DATE:20180911
SUMMARY:Full Council Meeting &#8211\\; 10th September 2018
DESCRIPTION:Full Council Meeting\nView details: https://ogwellparishcouncil.gov.uk/meetings/september-2018-minutes/
URL:https://ogwellparishcouncil.gov.uk/meetings/september-2018-minutes/
END:VEVENT
END:VCALENDAR
