BEGIN:VCALENDAR
VERSION:2.0
PRODID:-//Ogwell Parish Council//Meeting Calendar//EN
CALSCALE:GREGORIAN
METHOD:PUBLISH
BEGIN:VEVENT
UID:70742-20180813@ogwellparishcouncil.gov.uk
DTSTAMP:20260424T094652Z
DTSTART;VALUE=DATE:20180813
DTEND;VALUE=DATE:20180814
SUMMARY:Full Council Meeting &#8211\\; 13th August 2018
DESCRIPTION:Full Council Meeting\nView details: https://ogwellparishcouncil.gov.uk/meetings/august-2018-minutes/
URL:https://ogwellparishcouncil.gov.uk/meetings/august-2018-minutes/
END:VEVENT
END:VCALENDAR
