BEGIN:VCALENDAR
VERSION:2.0
PRODID:-//Ogwell Parish Council//Meeting Calendar//EN
CALSCALE:GREGORIAN
METHOD:PUBLISH
BEGIN:VEVENT
UID:70707-20170313@ogwellparishcouncil.gov.uk
DTSTAMP:20260420T140138Z
DTSTART;VALUE=DATE:20170313
DTEND;VALUE=DATE:20170314
SUMMARY:Full Council Meeting &#8211\\; 13th March 2017
DESCRIPTION:Full Council Meeting\nView details: https://ogwellparishcouncil.gov.uk/meetings/march-2017-minutes/
URL:https://ogwellparishcouncil.gov.uk/meetings/march-2017-minutes/
END:VEVENT
END:VCALENDAR
