BEGIN:VCALENDAR
VERSION:2.0
PRODID:-//Ogwell Parish Council//Meeting Calendar//EN
CALSCALE:GREGORIAN
METHOD:PUBLISH
BEGIN:VEVENT
UID:70693-20160801@ogwellparishcouncil.gov.uk
DTSTAMP:20260422T180004Z
DTSTART;VALUE=DATE:20160801
DTEND;VALUE=DATE:20160802
SUMMARY:Full Council Meeting &#8211\\; 1st August 2016
DESCRIPTION:Full Council Meeting\nView details: https://ogwellparishcouncil.gov.uk/meetings/august-2016-minutes/
URL:https://ogwellparishcouncil.gov.uk/meetings/august-2016-minutes/
END:VEVENT
END:VCALENDAR
