BEGIN:VCALENDAR
VERSION:2.0
PRODID:-//Ogwell Parish Council//Meeting Calendar//EN
CALSCALE:GREGORIAN
METHOD:PUBLISH
BEGIN:VEVENT
UID:70674-20150810@ogwellparishcouncil.gov.uk
DTSTAMP:20260423T083121Z
DTSTART;VALUE=DATE:20150810
DTEND;VALUE=DATE:20150811
SUMMARY:Full Council Meeting &#8211\\; 10th August 2015
DESCRIPTION:Full Council Meeting\nView details: https://ogwellparishcouncil.gov.uk/meetings/august-2015-minutes/
URL:https://ogwellparishcouncil.gov.uk/meetings/august-2015-minutes/
END:VEVENT
END:VCALENDAR
