BEGIN:VCALENDAR
VERSION:2.0
PRODID:-//Ogwell Parish Council//Meeting Calendar//EN
CALSCALE:GREGORIAN
METHOD:PUBLISH
BEGIN:VEVENT
UID:70634-20131209@ogwellparishcouncil.gov.uk
DTSTAMP:20260421T123833Z
DTSTART;VALUE=DATE:20131209
DTEND;VALUE=DATE:20131210
SUMMARY:Full Council Meeting &#8211\\; 9th December 2013
DESCRIPTION:Full Council Meeting\nView details: https://ogwellparishcouncil.gov.uk/meetings/december-2013-minutes/
URL:https://ogwellparishcouncil.gov.uk/meetings/december-2013-minutes/
END:VEVENT
END:VCALENDAR
